BEGIN:VCALENDAR
VERSION:2.0
PRODID:-//Finn Carlsen Turistbusser - ECPv4.9.13//NONSGML v1.0//EN
CALSCALE:GREGORIAN
METHOD:PUBLISH
X-WR-CALNAME:Finn Carlsen Turistbusser
X-ORIGINAL-URL:https://fcturistbusser.no
X-WR-CALDESC:Events for Finn Carlsen Turistbusser
BEGIN:VTIMEZONE
TZID:UTC
BEGIN:STANDARD
TZOFFSETFROM:+0000
TZOFFSETTO:+0000
TZNAME:UTC
DTSTART:20240101T000000
END:STANDARD
END:VTIMEZONE
BEGIN:VEVENT
DTSTART;VALUE=DATE:20240506
DTEND;VALUE=DATE:20240507
DTSTAMP:20260423T080331
CREATED:20240123T102347Z
LAST-MODIFIED:20240123T102347Z
UID:6418-1714953600-1715039999@fcturistbusser.no
SUMMARY:10 dager drømmetur blomsterkysten Italia m/Monaco\, Garda m/båttur på Gardasjøen\, Seefeld.
DESCRIPTION:En ny spennende og innholdsrik tur hvor vi får med oss mange perler. \nDen italienske blomsterkysten strekker seg fra Genova til grensen mot Frankrike. Et fint utgangspunkt for en middelhavsreise. En deilig ferie med en god balanse mellom utflukter\, avslapping og velvære. Naturmessig er vi i en spennende del av Italia mellom alpene og Middelhavet\, hvor varmen og vannet gir blomster og planter gode vekstmuligheter. \nSe program her! \n
URL:https://fcturistbusser.no/event/10-dager-drommetur-blomsterkysten-italia-m-monaco-garda-m-battur-pa-gardasjoen-seefeld/
END:VEVENT
END:VCALENDAR