BEGIN:VCALENDAR
VERSION:2.0
PRODID:-//Finn Carlsen Turistbusser - ECPv4.9.13//NONSGML v1.0//EN
CALSCALE:GREGORIAN
METHOD:PUBLISH
X-WR-CALNAME:Finn Carlsen Turistbusser
X-ORIGINAL-URL:https://fcturistbusser.no
X-WR-CALDESC:Events for Finn Carlsen Turistbusser
BEGIN:VTIMEZONE
TZID:UTC
BEGIN:STANDARD
TZOFFSETFROM:+0000
TZOFFSETTO:+0000
TZNAME:UTC
DTSTART:20240101T000000
END:STANDARD
END:VTIMEZONE
BEGIN:VEVENT
DTSTART;VALUE=DATE:20240527
DTEND;VALUE=DATE:20240528
DTSTAMP:20260423T060814
CREATED:20240123T144447Z
LAST-MODIFIED:20240123T144447Z
UID:6431-1716768000-1716768000@fcturistbusser.no
SUMMARY:3 dager Den hvite byen ved Skagerak\, Risør m/båttur i Blindleia
DESCRIPTION:Lyden av bølgeskvulp. Solen som tegner fregner på nesen. Lukten av sommer. Ja\, det er Risør vi snakker om. I Den hvite by ved Skagerrak er det meste i rusleavstand. \nÅ gå på måfå i Risørs gater\, er en fryd. Ikke bare dufter hele byen søtt av syrin. Overalt er det også små detaljer å glede seg over: \nRisør ble ladested i 1630 og kjøpstad i 1723. Men handelen med tømmer til hollenderne skapte vekst på stedet lenge før det. Allerede i 1556 tegnet den italienske kartografen Giacomo Gastaldi inn Risør på europakartet – som eneste sørlandsby. \nBeliggenheten\, lunt beskyttet av en molo av småøyer samtidig som åpent hav er så nær at du knapt rekker å heve seilene før du er utpå det\, var perfekt for sjøfart og skipsbygging. \nRundt 1800 var byen Norges fjerde største eksporthavn. Og på det meste  hadde distriktet hele 52 skips- og båtbyggerier. \nSe program her!  \n
URL:https://fcturistbusser.no/event/3-dager-den-hvite-byen-ved-skagerak-risor-m-battur-i-blindleia/
END:VEVENT
END:VCALENDAR