BEGIN:VCALENDAR
VERSION:2.0
PRODID:-//Finn Carlsen Turistbusser - ECPv4.9.13//NONSGML v1.0//EN
CALSCALE:GREGORIAN
METHOD:PUBLISH
X-WR-CALNAME:Finn Carlsen Turistbusser
X-ORIGINAL-URL:https://fcturistbusser.no
X-WR-CALDESC:Events for Finn Carlsen Turistbusser
BEGIN:VTIMEZONE
TZID:UTC
BEGIN:STANDARD
TZOFFSETFROM:+0000
TZOFFSETTO:+0000
TZNAME:UTC
DTSTART:20250101T000000
END:STANDARD
END:VTIMEZONE
BEGIN:VEVENT
DTSTART;VALUE=DATE:20250526
DTEND;VALUE=DATE:20250527
DTSTAMP:20260420T090255
CREATED:20210221T133645Z
LAST-MODIFIED:20250121T125740Z
UID:5405-1748217600-1748303999@fcturistbusser.no
SUMMARY:3 dg Blomstringen i Hardanger.
DESCRIPTION:Hardangerfjorden er et kjærkomment motiv for naturfotografer og kunstmalere. Med sitt dramatiskelandskap\, fjordene som speiler de hvitkledde fjelltoppene\, sine mektige fossefall og majestetiskeisbréer\, er nettopp Hardangerfjorden et av de vakreste områdene som Norge har å by på!  Programmet ligger her: \n
URL:https://fcturistbusser.no/event/3-dg-blomstringen-i-hardanger/
CATEGORIES:Tur
ATTACH;FMTTYPE=image/jpeg:https://fcturistbusser.no/wp-content/uploads/2016/03/Hardangerfjorden-e1457873186366.jpg
END:VEVENT
END:VCALENDAR