BEGIN:VCALENDAR
VERSION:2.0
PRODID:-//Finn Carlsen Turistbusser - ECPv4.9.13//NONSGML v1.0//EN
CALSCALE:GREGORIAN
METHOD:PUBLISH
X-WR-CALNAME:Finn Carlsen Turistbusser
X-ORIGINAL-URL:https://fcturistbusser.no
X-WR-CALDESC:Events for Finn Carlsen Turistbusser
BEGIN:VTIMEZONE
TZID:UTC
BEGIN:STANDARD
TZOFFSETFROM:+0000
TZOFFSETTO:+0000
TZNAME:UTC
DTSTART:20240101T000000
END:STANDARD
END:VTIMEZONE
BEGIN:VEVENT
DTSTART;VALUE=DATE:20240327
DTEND;VALUE=DATE:20240328
DTSTAMP:20260423T110616
CREATED:20240123T084904Z
LAST-MODIFIED:20240123T084904Z
UID:6405-1711497600-1711583999@fcturistbusser.no
SUMMARY:3 dg. Bohusgården Hotell m/trivelige Fjällbacka.
DESCRIPTION:Hotell Bohusgården ligger ved siden av Byfjorden i Uddevalla\, og har et spa og velværeområde.\nAlle rommene har TV. Rommene på Bohusgården Hotell har eget bad og lys\, moderne innredning.\nNoen av rommene har balkong med utsikt over fjorden. Spaet på Bohusgården Hotell & Konferens har basseng\, boblebad\, urtebad\, solterapi\, utendørs\nboblebad\, treningsrom og badstue. Fjällbacka\, et tettsted i Tanum Kommune i Västra Götaland i landskapet Bohuslän.\nFjällbacka er hovedsakelig kjent som stedet hvor Ingrid Bergmann bodde de gangene hun besøkte Sverige.\nFjällbacka kan beskrives som en liten fiskerlandsby. Søvnig vinter\, vår og haust\, men med et yrende folkeliv i sommar\nmånedene. Byen har bare 1000 innbyggere\, men det mangedobles sommerstid. \nSe program her! \n
URL:https://fcturistbusser.no/event/3-dg-bohusgarden-hotell-m-trivelige-fjallbacka/
ATTACH;FMTTYPE=image/jpeg:https://fcturistbusser.no/wp-content/uploads/2024/01/Bohusgarden-Hotell.jpg
END:VEVENT
END:VCALENDAR