BEGIN:VCALENDAR
VERSION:2.0
PRODID:-//Finn Carlsen Turistbusser - ECPv4.9.13//NONSGML v1.0//EN
CALSCALE:GREGORIAN
METHOD:PUBLISH
X-WR-CALNAME:Finn Carlsen Turistbusser
X-ORIGINAL-URL:https://fcturistbusser.no
X-WR-CALDESC:Events for Finn Carlsen Turistbusser
BEGIN:VTIMEZONE
TZID:UTC
BEGIN:STANDARD
TZOFFSETFROM:+0000
TZOFFSETTO:+0000
TZNAME:UTC
DTSTART:20210101T000000
END:STANDARD
END:VTIMEZONE
BEGIN:VEVENT
DTSTART;VALUE=DATE:20210803
DTEND;VALUE=DATE:20210804
DTSTAMP:20260424T235542
CREATED:20210501T103127Z
LAST-MODIFIED:20210501T103643Z
UID:5445-1627948800-1628035199@fcturistbusser.no
SUMMARY:3 dg. Røros m/Elden
DESCRIPTION:Røros ble grunnlagt i 1644 da den første kobberåren ble funnet i området – sagnet\nsier at det var en reinsdyrbukk som sparket opp en skinnende stein før den falt om\netter å ha blitt skutt – Røros ble snart en av de viktigste gruvebyene i Norge.\nElden er et norsk\, historisk musikkspill skrevet av Arnfinn Strømmevold og\nBertil Reithaug og settes opp i spektatulære omgivelser midt i verdensarven Røros.\nSlegghaugene danner en majestetisk scene for dramatikken som utspiller seg i\nkveldstimene juli/agust. Elden tar oss med tilbake til 1718-1719 da 10.000 svenske\nsoldager med general Carl Gustad Armfeldt gikk mot Trondheim for å ta over\nNorge\, etter ordre fra Karl XII. Under ledelse av general De la Barre ble\nhundretalls av soldatene sendt til Røros hvor store deler av handlingen utspiller\nseg. Da Karl XII ble skutt\, startet de svenske soldatenes tilbaketog til Sverige.\nDødsmarsjen – hvor 4000 soldater frøs i hjel på veien over grensefjella mot\nSverige – er en sentral del av musikkspelet Elden. Program \n
URL:https://fcturistbusser.no/event/3-dg-roros-m-elden/
CATEGORIES:Tur
ATTACH;FMTTYPE=image/jpeg:https://fcturistbusser.no/wp-content/uploads/2016/07/IMG_1265-e1469948285180.jpg
ORGANIZER;CN="Finn%20Carlsen%20Turistbusser%20AS":MAILTO:post@fcturistbusser.no
END:VEVENT
END:VCALENDAR