BEGIN:VCALENDAR
VERSION:2.0
PRODID:-//Finn Carlsen Turistbusser - ECPv4.9.13//NONSGML v1.0//EN
CALSCALE:GREGORIAN
METHOD:PUBLISH
X-WR-CALNAME:Finn Carlsen Turistbusser
X-ORIGINAL-URL:https://fcturistbusser.no
X-WR-CALDESC:Events for Finn Carlsen Turistbusser
BEGIN:VTIMEZONE
TZID:UTC
BEGIN:STANDARD
TZOFFSETFROM:+0000
TZOFFSETTO:+0000
TZNAME:UTC
DTSTART:20270101T000000
END:STANDARD
END:VTIMEZONE
BEGIN:VEVENT
DTSTART;VALUE=DATE:20270628
DTEND;VALUE=DATE:20270629
DTSTAMP:20260419T223428
CREATED:20251203T103237Z
LAST-MODIFIED:20251203T103237Z
UID:7261-1814140800-1814227199@fcturistbusser.no
SUMMARY:3 dg. "Ut i det uvisse"
DESCRIPTION:La oss gjøre noe spennende!!!\n3 dager skal vi kose oss sammen\nDele fine opplevelser.\nDeilig mat. (1/2 pensjon ++).\nMøte nye venner\, møte gamle kjente.\nVi røper litt. Dere trenger gode sko\, skal være litt ute\, gode klær. Det kan blåse litt. \nLitt info. \n
URL:https://fcturistbusser.no/event/3-dg-ut-i-det-uvisse/
CATEGORIES:FC klubben,Tur
ATTACH;FMTTYPE=image/jpeg:https://fcturistbusser.no/wp-content/uploads/2017/05/DSC_0971-e1510659883937.jpg
ORGANIZER;CN="Finn%20Carlsen%20Turistbusser%20AS":MAILTO:post@fcturistbusser.no
END:VEVENT
END:VCALENDAR