BEGIN:VCALENDAR
VERSION:2.0
PRODID:-//Finn Carlsen Turistbusser - ECPv4.9.13//NONSGML v1.0//EN
CALSCALE:GREGORIAN
METHOD:PUBLISH
X-WR-CALNAME:Finn Carlsen Turistbusser
X-ORIGINAL-URL:https://fcturistbusser.no
X-WR-CALDESC:Events for Finn Carlsen Turistbusser
BEGIN:VTIMEZONE
TZID:UTC
BEGIN:STANDARD
TZOFFSETFROM:+0000
TZOFFSETTO:+0000
TZNAME:UTC
DTSTART:20240101T000000
END:STANDARD
END:VTIMEZONE
BEGIN:VEVENT
DTSTART;VALUE=DATE:20240506
DTEND;VALUE=DATE:20240507
DTSTAMP:20260423T075215
CREATED:20240130T122151Z
LAST-MODIFIED:20240130T122253Z
UID:6514-1714953600-1715039999@fcturistbusser.no
SUMMARY:4 dager\, Liverpool - Beatlesmuseet - York - Aidensfield
DESCRIPTION:\n\nBli med til Liverpool – Beatlesmuseet – York – Aidensfield. \nSe program her!\n\n\n
URL:https://fcturistbusser.no/event/4-dager-liverpool-beatlesmuseet-york-aidensfield/
ATTACH;FMTTYPE=image/jpeg:https://fcturistbusser.no/wp-content/uploads/2023/01/Aidensfield-5-scaled.jpg
END:VEVENT
END:VCALENDAR