BEGIN:VCALENDAR
VERSION:2.0
PRODID:-//Finn Carlsen Turistbusser - ECPv4.9.13//NONSGML v1.0//EN
CALSCALE:GREGORIAN
METHOD:PUBLISH
X-WR-CALNAME:Finn Carlsen Turistbusser
X-ORIGINAL-URL:https://fcturistbusser.no
X-WR-CALDESC:Events for Finn Carlsen Turistbusser
BEGIN:VTIMEZONE
TZID:UTC
BEGIN:STANDARD
TZOFFSETFROM:+0000
TZOFFSETTO:+0000
TZNAME:UTC
DTSTART:20240101T000000
END:STANDARD
END:VTIMEZONE
BEGIN:VEVENT
DTSTART;VALUE=DATE:20240516
DTEND;VALUE=DATE:20240517
DTSTAMP:20260423T075019
CREATED:20240130T105328Z
LAST-MODIFIED:20240130T105341Z
UID:6499-1715817600-1715903999@fcturistbusser.no
SUMMARY:4 dg «Sitt ikke alene 17.mai»\, fruktblomstring\, Gaularfjellet og mye kos.
DESCRIPTION:Velkommen til Leikanger– ei solvendt bygd langs vakre Sognefjorden Bygda\, med sine drygt 2300 innbyggere kjent for sitt gode klima\, med mange soltimer og gode vilkår for frukt- og bærdyrking.\nMed sine nærmere 80.000 frukttrær\, er bygda en stor bær- og fruktprodusent. Mellom frukthagene ligger nye og eldre embetshus\, som forteller historien om Leikanger som administrasjonssenter for fylke og stat.\nLeikanger er den fremste frukt- og bærbygda i Sogn.\nFrukthagene ligger langs Sognefjorden.\nLeikanger Fjord Hotell har naturskjønn beliggenhet i hjertet av Sognefjorden\, Norges mildeste klima. Strandavegen er en vandring gjennom gamle helters historie\, vikinghistorie og kulturhistorie. Strandavegen følger fjorden mot øst fra trappen på Leikanger Fjord Hotel til Leikanger kirke.\nDette blir en tur med naturperler på løpende bånd.\nVi skal oppleve samlingen til et ektepar i Valdres. Passere fjelloverganger og møter Vestlandet.\nEr vi heldige så er blomstringen i fullgang\, 17.– mai feirer vi\, med barnetoger i Hermansverk.\nDet blir også en tur over Gaularfjellet. \nSe program her! \n
URL:https://fcturistbusser.no/event/4-dg-sitt-ikke-alene-17-mai-fruktblomstring-gaularfjellet-og-mye-kos/
ATTACH;FMTTYPE=image/jpeg:https://fcturistbusser.no/wp-content/uploads/2024/01/467ff604-4964-41ec-ac9f-383f8567cedf.jpg
ORGANIZER;CN="Finn%20Carlsen%20Turistbusser%20AS":MAILTO:post@fcturistbusser.no
END:VEVENT
END:VCALENDAR