BEGIN:VCALENDAR
VERSION:2.0
PRODID:-//Finn Carlsen Turistbusser - ECPv4.9.13//NONSGML v1.0//EN
CALSCALE:GREGORIAN
METHOD:PUBLISH
X-WR-CALNAME:Finn Carlsen Turistbusser
X-ORIGINAL-URL:https://fcturistbusser.no
X-WR-CALDESC:Events for Finn Carlsen Turistbusser
BEGIN:VTIMEZONE
TZID:UTC
BEGIN:STANDARD
TZOFFSETFROM:+0000
TZOFFSETTO:+0000
TZNAME:UTC
DTSTART:20230101T000000
END:STANDARD
END:VTIMEZONE
BEGIN:VEVENT
DTSTART;VALUE=DATE:20230615
DTEND;VALUE=DATE:20230616
DTSTAMP:20260424T013241
CREATED:20170516T110841Z
LAST-MODIFIED:20230615T081115Z
UID:2969-1686787200-1686873599@fcturistbusser.no
SUMMARY:4-dg (FC-klubben) Valdresfjellenen med Gomobu.
DESCRIPTION:Oppe i Valdres Vestfjell\, nær ved berømte Panoramaveien\, ligger Gomobu som blir vår ”base”. Her bys god forpleining og hyggelig atmosfære. Ypperlig utgangspunkt for fotturer og for busstur innover fjellene for å registrere hvordan fritidsfolket erobrer tidligere travle setergrender som nå blir erstattet av hytter. Men naturen består!\nProgrammet finner du her \n
URL:https://fcturistbusser.no/event/4-dg-valdresfjellenen-med-gomobu/
CATEGORIES:FC klubben
ATTACH;FMTTYPE=image/jpeg:https://fcturistbusser.no/wp-content/uploads/2017/05/DSC_0968-e1510660356498.jpg
ORGANIZER;CN="Finn%20Carlsen%20Turistbusser%20AS":MAILTO:post@fcturistbusser.no
END:VEVENT
END:VCALENDAR