BEGIN:VCALENDAR
VERSION:2.0
PRODID:-//Finn Carlsen Turistbusser - ECPv4.9.13//NONSGML v1.0//EN
CALSCALE:GREGORIAN
METHOD:PUBLISH
X-WR-CALNAME:Finn Carlsen Turistbusser
X-ORIGINAL-URL:https://fcturistbusser.no
X-WR-CALDESC:Events for Finn Carlsen Turistbusser
BEGIN:VTIMEZONE
TZID:UTC
BEGIN:STANDARD
TZOFFSETFROM:+0000
TZOFFSETTO:+0000
TZNAME:UTC
DTSTART:20240101T000000
END:STANDARD
END:VTIMEZONE
BEGIN:VEVENT
DTSTART;VALUE=DATE:20240818
DTEND;VALUE=DATE:20240819
DTSTAMP:20260423T004153
CREATED:20240702T092222Z
LAST-MODIFIED:20240702T092222Z
UID:6629-1723939200-1724025599@fcturistbusser.no
SUMMARY:4 dg. Vauldalen- kultur\, arv og de beste måltidsopplevelsene med båttur på Femunden\, Sverige og Skottgården.
DESCRIPTION:Ikke glem at fjellet om høsten er medisin for kropp og sjel. \nVauldalen ligger 4 mil øst for Røros 840 m.o.h. Du finner oss på Norges tak 1500 m fra grensen mot Sverige\, i naturskjønne omgivelser like innunder de praktfulle Viggelfjella. \n\n        \n            #gallery-1 {\n                margin: auto;\n            }\n            #gallery-1 .gallery-item {\n                float: left;\n                margin-top: 10px;\n                text-align: center;\n                width: 50%;           }\n            #gallery-1 img {\n                border: 2px solid #cfcfcf;\n            }\n            #gallery-1 .gallery-caption {\n                margin-left: 0;\n            }\n        \n        \n        \n            \n                \n            \n                \n                Vauldalen Fjellstue\n                \n            \n                \n            \n                \n                Vauldalen\n                \n            \n                \n            \n                \n                👌\n                \n            \n                \n            \n                \n                Femunden ll\n                \n            \n        \n\nVi innviterer til høsttur med god mat og stemningsfulle opplevelser. Les det spennende programmet her \n
URL:https://fcturistbusser.no/event/4-dg-vauldalen-kultur-arv-og-de-beste-maltidsopplevelsene-med-battur-pa-femunden-sverige-og-skottgarden/
ATTACH;FMTTYPE=image/jpeg:https://fcturistbusser.no/wp-content/uploads/2024/07/hestebilde.jpg
ORGANIZER;CN="Finn%20Carlsen%20Turistbusser%20AS":MAILTO:post@fcturistbusser.no
END:VEVENT
END:VCALENDAR