BEGIN:VCALENDAR
VERSION:2.0
PRODID:-//Finn Carlsen Turistbusser - ECPv4.9.13//NONSGML v1.0//EN
CALSCALE:GREGORIAN
METHOD:PUBLISH
X-WR-CALNAME:Finn Carlsen Turistbusser
X-ORIGINAL-URL:https://fcturistbusser.no
X-WR-CALDESC:Events for Finn Carlsen Turistbusser
BEGIN:VTIMEZONE
TZID:UTC
BEGIN:STANDARD
TZOFFSETFROM:+0000
TZOFFSETTO:+0000
TZNAME:UTC
DTSTART:20220101T000000
END:STANDARD
END:VTIMEZONE
BEGIN:VEVENT
DTSTART;VALUE=DATE:20220718
DTEND;VALUE=DATE:20220719
DTSTAMP:20260424T090425
CREATED:20160320T062719Z
LAST-MODIFIED:20220123T130823Z
UID:1276-1658102400-1658188799@fcturistbusser.no
SUMMARY:5 dg. Rosendal-Bergen-Sogn
DESCRIPTION:Hardanger\, en opplevelse hele året. Her møtes vi av snødekte fjelltopper\, majestetiske fosser\, isblå fjorder m.m. Norges eneste Baroni finner vi i Rosendal.\nVestlandets hovedstad\, Bergen med alt den har å tilby.\nNærøyfjorden. Det var her Norgesvennen   keiser Wilhelm ikke klarte å stå imot inntrykkene og falt på kne og utbrøt «MIN GUD; HVA ER DETTE».  Bli med for å oppleve dette!   Programmet ligger her. \n
URL:https://fcturistbusser.no/event/5-dg-rosendal-bergen-sogn/
CATEGORIES:Tur
ATTACH;FMTTYPE=image/jpeg:https://fcturistbusser.no/wp-content/uploads/2016/03/Bryggen-en-fin-sommerdag1.jpg
ORGANIZER;CN="Finn%20Carlsen%20Turistbusser%20AS":MAILTO:post@fcturistbusser.no
END:VEVENT
END:VCALENDAR