BEGIN:VCALENDAR
VERSION:2.0
PRODID:-//Finn Carlsen Turistbusser - ECPv4.9.13//NONSGML v1.0//EN
CALSCALE:GREGORIAN
METHOD:PUBLISH
X-WR-CALNAME:Finn Carlsen Turistbusser
X-ORIGINAL-URL:https://fcturistbusser.no
X-WR-CALDESC:Events for Finn Carlsen Turistbusser
BEGIN:VTIMEZONE
TZID:UTC
BEGIN:STANDARD
TZOFFSETFROM:+0000
TZOFFSETTO:+0000
TZNAME:UTC
DTSTART:20240101T000000
END:STANDARD
END:VTIMEZONE
BEGIN:VEVENT
DTSTART;VALUE=DATE:20240826
DTEND;VALUE=DATE:20240827
DTSTAMP:20260422T230651
CREATED:20240129T095617Z
LAST-MODIFIED:20240129T095617Z
UID:6448-1724630400-1724716799@fcturistbusser.no
SUMMARY:5 dg Skei i Jølster
DESCRIPTION:Helt vest i landet finner vi Sunnfjord. Et område med store kontraster. Her finner vi fjorder\, åpent hav\, innsjøer\, høye fjell og isbreer. Vi bruker Jølster og Thon Hotell Skei som base for vårt opphold. I løpet av 5 spennende dager skal vi få med oss mange opplevelser og inntrykk. \nProgram finner du her \n
URL:https://fcturistbusser.no/event/5-dg-skei-i-jolster-2/
CATEGORIES:Tur
ATTACH;FMTTYPE=image/jpeg:https://fcturistbusser.no/wp-content/uploads/2016/02/Boyabreen.jpg
END:VEVENT
END:VCALENDAR