BEGIN:VCALENDAR
VERSION:2.0
PRODID:-//Finn Carlsen Turistbusser - ECPv4.9.13//NONSGML v1.0//EN
CALSCALE:GREGORIAN
METHOD:PUBLISH
X-WR-CALNAME:Finn Carlsen Turistbusser
X-ORIGINAL-URL:https://fcturistbusser.no
X-WR-CALDESC:Events for Finn Carlsen Turistbusser
BEGIN:VTIMEZONE
TZID:UTC
BEGIN:STANDARD
TZOFFSETFROM:+0000
TZOFFSETTO:+0000
TZNAME:UTC
DTSTART:20240101T000000
END:STANDARD
END:VTIMEZONE
BEGIN:VEVENT
DTSTART;VALUE=DATE:20240704
DTEND;VALUE=DATE:20240705
DTSTAMP:20260423T042615
CREATED:20240130T095635Z
LAST-MODIFIED:20240130T095635Z
UID:6489-1720051200-1720137599@fcturistbusser.no
SUMMARY:6 dager\, Rhinen i Flammer
DESCRIPTION:Det som startet for lenge siden\, er fortsatt like populært. Siden 1977 har det tradisjonelle fyrverkeri «Rhein in Flammen» blitt besøkt av millioner av besøkende fra hele verden.\nJa\, vi snakker om Rüdesheim\, et av Tysklands flotteste områder\, og regionen Rheingau.\nRheingau står på UNESCO’s liste og er kjent for sine gamle slott\, godt bevarte ruiner og\, selvfølgelig\, viner i verdensklasse.\nNår slottene og borger i regionen er fargerikt opplyst og skip ankrer opp i Rhinen da er det klart for Rhein in Flammen fullspekket med fyrverkeri.\nI Rüdesheim bor vi på meget sentrale Park Hotel\, med andre ord midt i smørøyet. \nSe program her! \n
URL:https://fcturistbusser.no/event/6-dager-rhinen-i-flammer/
END:VEVENT
END:VCALENDAR