BEGIN:VCALENDAR
VERSION:2.0
PRODID:-//Finn Carlsen Turistbusser - ECPv4.9.13//NONSGML v1.0//EN
CALSCALE:GREGORIAN
METHOD:PUBLISH
X-WR-CALNAME:Finn Carlsen Turistbusser
X-ORIGINAL-URL:https://fcturistbusser.no
X-WR-CALDESC:Events for Finn Carlsen Turistbusser
BEGIN:VTIMEZONE
TZID:UTC
BEGIN:STANDARD
TZOFFSETFROM:+0000
TZOFFSETTO:+0000
TZNAME:UTC
DTSTART:20240101T000000
END:STANDARD
END:VTIMEZONE
BEGIN:VEVENT
DTSTART;VALUE=DATE:20241003
DTEND;VALUE=DATE:20241004
DTSTAMP:20260422T200214
CREATED:20240130T124050Z
LAST-MODIFIED:20240130T125112Z
UID:6527-1727913600-1727999999@fcturistbusser.no
SUMMARY:9 dager\, fantastiske Sveits m/godbiter som Lugano\, Bernian Express\, Davos\, Rothenburg og Celle
DESCRIPTION:Omkranset av Alpene ligger Sveits. Landet er nok mest kjent for sine oster og diskrete banker\, men som reisende vil vi oppdage at landet representerer mye mer enn det. Naturen i Sveits er vakker og preges av fjellandskap med Alpene i sydøst og Jurafjellene i nordvest. Det renner flere store elver gjennom landet. I dalene dyrkes det vin og korn. Bodensjøen er en vakker innsjø som er omgitt av snøkledde fjelltopper og blomsterfarge småbyer. \nSe program her! \n
URL:https://fcturistbusser.no/event/9-dager-fantastiske-sveits-m-godbiter-som-lugano-bernian-express-davos-rothenburg-og-celle/
ATTACH;FMTTYPE=image/jpeg:https://fcturistbusser.no/wp-content/uploads/2024/01/Lugano-terrasse.jpg
END:VEVENT
END:VCALENDAR