BEGIN:VCALENDAR
VERSION:2.0
PRODID:-//Finn Carlsen Turistbusser - ECPv4.9.13//NONSGML v1.0//EN
CALSCALE:GREGORIAN
METHOD:PUBLISH
X-WR-CALNAME:Finn Carlsen Turistbusser
X-ORIGINAL-URL:https://fcturistbusser.no
X-WR-CALDESC:Events for Finn Carlsen Turistbusser
BEGIN:VTIMEZONE
TZID:UTC
BEGIN:STANDARD
TZOFFSETFROM:+0000
TZOFFSETTO:+0000
TZNAME:UTC
DTSTART:20220101T000000
END:STANDARD
END:VTIMEZONE
BEGIN:VEVENT
DTSTART;VALUE=DATE:20220722
DTEND;VALUE=DATE:20220723
DTSTAMP:20260424T071533
CREATED:20201216T201137Z
LAST-MODIFIED:20220123T132322Z
UID:5301-1658448000-1658534399@fcturistbusser.no
SUMMARY:Baardshaug Herregård m/Trondheim\,  Gruvene på Løkken og Thamshavnbanen
DESCRIPTION:Herskapelige Bårdshaug Herregård står sentralt i småbyen Orkanger.\nBårdshaug gård ble satt opp på Bårdshaugen i 1860. Christian Thams kjøpte gården i 1890 og startet med ombyggingen. 14 år skulle det ta før det meget omfattende arbeidet var ferdig. Resultatet ble en særpreget herregård og et unikt syn på landsbygda\, den gang som i dag. Dagens Bårdshaug er i stor grad bevart som på Thams’ tid\, med en blanding av internasjonal arkitektur og nasjonalromantisk tradisjon\, i stilarter fra norrønt til Louis-seize-stil. Innredningen og utsmykningen fra alle deler av verden forteller mye om mannen som bodde der.  Program. \n
URL:https://fcturistbusser.no/event/baardshaug-herregard-m-trondheim-gruvene-pa-lokken-og-thamshavnbanen/
CATEGORIES:Tur
ATTACH;FMTTYPE=image/png:https://fcturistbusser.no/wp-content/uploads/2020/12/Bilde3.png
ORGANIZER;CN="Finn%20Carlsen%20Turistbusser%20AS":MAILTO:post@fcturistbusser.no
END:VEVENT
END:VCALENDAR