BEGIN:VCALENDAR
VERSION:2.0
PRODID:-//Finn Carlsen Turistbusser - ECPv4.9.13//NONSGML v1.0//EN
CALSCALE:GREGORIAN
METHOD:PUBLISH
X-WR-CALNAME:Finn Carlsen Turistbusser
X-ORIGINAL-URL:https://fcturistbusser.no
X-WR-CALDESC:Events for Finn Carlsen Turistbusser
BEGIN:VTIMEZONE
TZID:UTC
BEGIN:STANDARD
TZOFFSETFROM:+0000
TZOFFSETTO:+0000
TZNAME:UTC
DTSTART:20210101T000000
END:STANDARD
END:VTIMEZONE
BEGIN:VEVENT
DTSTART;VALUE=DATE:20210715
DTEND;VALUE=DATE:20210716
DTSTAMP:20260425T013846
CREATED:20201215T123903Z
LAST-MODIFIED:20201215T123939Z
UID:5276-1626307200-1626393599@fcturistbusser.no
SUMMARY:Bjørneparken
DESCRIPTION:Bjørnen – kongen blant Norges villdyr kan vi sjelden se på nært hold\, selv om den tidvis viser seg i skogstrakter spesielt i Trøndelag. I Bjørneparken i Flå kan vi virkelig på nært hold iaktta storbamsene og i 1997 ble det født bjørnunger. Et enestående tilfelle at bjørnen formerer seg i fangenskap. Program \n
URL:https://fcturistbusser.no/event/bjorneparken/
CATEGORIES:Dagstur
ATTACH;FMTTYPE=image/jpeg:https://fcturistbusser.no/wp-content/uploads/2016/01/Bjørneunge-e1453982326832.jpg
ORGANIZER;CN="Finn%20Carlsen%20Turistbusser%20AS":MAILTO:post@fcturistbusser.no
END:VEVENT
END:VCALENDAR