BEGIN:VCALENDAR
VERSION:2.0
PRODID:-//Finn Carlsen Turistbusser - ECPv4.9.13//NONSGML v1.0//EN
CALSCALE:GREGORIAN
METHOD:PUBLISH
X-WR-CALNAME:Finn Carlsen Turistbusser
X-ORIGINAL-URL:https://fcturistbusser.no
X-WR-CALDESC:Events for Finn Carlsen Turistbusser
BEGIN:VTIMEZONE
TZID:UTC
BEGIN:STANDARD
TZOFFSETFROM:+0000
TZOFFSETTO:+0000
TZNAME:UTC
DTSTART:20240101T000000
END:STANDARD
END:VTIMEZONE
BEGIN:VEVENT
DTSTART;VALUE=DATE:20240425
DTEND;VALUE=DATE:20240426
DTSTAMP:20260423T094535
CREATED:20170726T093302Z
LAST-MODIFIED:20240123T091923Z
UID:3015-1714003200-1714089599@fcturistbusser.no
SUMMARY:7 dg. blomsterlandet Holland
DESCRIPTION:Vi besøker blomsterlandet Holland!\n”VIL DU VÆRE MED – SÅ HENG PÅ” Dette blir en opplevelse. Programmet ligger her\n \n
URL:https://fcturistbusser.no/event/blomsterriket-holland/
CATEGORIES:Tur
ATTACH;FMTTYPE=image/jpeg:https://fcturistbusser.no/wp-content/uploads/2016/02/Tur-til-Holland-24.04.10-024-e1457078581347.jpg
END:VEVENT
END:VCALENDAR