BEGIN:VCALENDAR
VERSION:2.0
PRODID:-//Finn Carlsen Turistbusser - ECPv4.9.13//NONSGML v1.0//EN
CALSCALE:GREGORIAN
METHOD:PUBLISH
X-WR-CALNAME:Finn Carlsen Turistbusser
X-ORIGINAL-URL:https://fcturistbusser.no
X-WR-CALDESC:Events for Finn Carlsen Turistbusser
BEGIN:VTIMEZONE
TZID:UTC
BEGIN:STANDARD
TZOFFSETFROM:+0000
TZOFFSETTO:+0000
TZNAME:UTC
DTSTART:20200101T000000
END:STANDARD
END:VTIMEZONE
BEGIN:VEVENT
DTSTART;VALUE=DATE:20201126
DTEND;VALUE=DATE:20201127
DTSTAMP:20260425T013948
CREATED:20200919T095400Z
LAST-MODIFIED:20200919T095400Z
UID:4821-1606348800-1606435199@fcturistbusser.no
SUMMARY:Eventyrreise til Nordfjord
DESCRIPTION:Vi reiser til Nordfjordeid og bor komfortabelt på Nordfjord Hotell. Hotellet har eget basseng og spaavdeling\, godt kjøkken og hyggelig atmosfære. www.nordfjord-hotell.no \nUnder oppholdet skal vi bl.a. besøke Operahuset i Nordfjord å se forestillingen «Reisa til julestjerna». som kommer til Operahuset Nordfjord\, når Opera Nordfjord setter opp denne folkekjære klassikeren fra 1924.\nReisa til Julestjerna (originaltittel: Reisen til Julestjernen) er et norsk skuespill av Sverre Brandt fra 1924\, oppført første gang 2. juledag 1924 på Nationaltheatret i Oslo. Programmet finner du her. \n
URL:https://fcturistbusser.no/event/eventyrreise-til-nordfjord/
LOCATION:Nordfjord\, Norge
CATEGORIES:FC klubben,Førjulstur
ATTACH;FMTTYPE=image/jpeg:https://fcturistbusser.no/wp-content/uploads/2020/09/last-ned.jpg
ORGANIZER;CN="Finn%20Carlsen%20Turistbusser%20AS":MAILTO:post@fcturistbusser.no
END:VEVENT
END:VCALENDAR