BEGIN:VCALENDAR
VERSION:2.0
PRODID:-//Finn Carlsen Turistbusser - ECPv4.9.13//NONSGML v1.0//EN
CALSCALE:GREGORIAN
METHOD:PUBLISH
X-WR-CALNAME:Finn Carlsen Turistbusser
X-ORIGINAL-URL:https://fcturistbusser.no
X-WR-CALDESC:Events for Finn Carlsen Turistbusser
BEGIN:VTIMEZONE
TZID:UTC
BEGIN:STANDARD
TZOFFSETFROM:+0000
TZOFFSETTO:+0000
TZNAME:UTC
DTSTART:20260101T000000
END:STANDARD
END:VTIMEZONE
BEGIN:VEVENT
DTSTART;VALUE=DATE:20261020
DTEND;VALUE=DATE:20261021
DTSTAMP:20260419T150631
CREATED:20250117T110708Z
LAST-MODIFIED:20251204T135754Z
UID:6735-1792454400-1792540799@fcturistbusser.no
SUMMARY:FC klubben til Charlottenberg
DESCRIPTION:Kan vi friste med en tur til Charlottenberg nå 20. oktober? \nProgram: \n
URL:https://fcturistbusser.no/event/fc-klubben-til-charlottenberg/
CATEGORIES:FC klubben
ATTACH;FMTTYPE=image/jpeg:https://fcturistbusser.no/wp-content/uploads/2016/02/Irene-mobil-058-e1454507763708.jpg
END:VEVENT
END:VCALENDAR