BEGIN:VCALENDAR
VERSION:2.0
PRODID:-//Finn Carlsen Turistbusser - ECPv4.9.13//NONSGML v1.0//EN
CALSCALE:GREGORIAN
METHOD:PUBLISH
X-WR-CALNAME:Finn Carlsen Turistbusser
X-ORIGINAL-URL:https://fcturistbusser.no
X-WR-CALDESC:Events for Finn Carlsen Turistbusser
BEGIN:VTIMEZONE
TZID:UTC
BEGIN:STANDARD
TZOFFSETFROM:+0000
TZOFFSETTO:+0000
TZNAME:UTC
DTSTART:20260101T000000
END:STANDARD
END:VTIMEZONE
BEGIN:VEVENT
DTSTART;VALUE=DATE:20261208
DTEND;VALUE=DATE:20261209
DTSTAMP:20260419T175654
CREATED:20220909T155130Z
LAST-MODIFIED:20251204T141709Z
UID:5781-1796688000-1796774399@fcturistbusser.no
SUMMARY:Jul i Prøysenland
DESCRIPTION:Buss\,  omv.\, litt å bite i på Prøysenhuset\, julemiddag med dessert og kaffe på Wood Hotell. \nprogram \n
URL:https://fcturistbusser.no/event/fineste-juelgata-pa-hedemarken/
CATEGORIES:Dagstur,Førjulstur
ATTACH;FMTTYPE=image/jpeg:https://fcturistbusser.no/wp-content/uploads/2020/10/Proysenhuset.jpg
ORGANIZER;CN="Finn%20Carlsen%20Turistbusser%20AS":MAILTO:post@fcturistbusser.no
END:VEVENT
END:VCALENDAR