BEGIN:VCALENDAR
VERSION:2.0
PRODID:-//Finn Carlsen Turistbusser - ECPv4.9.13//NONSGML v1.0//EN
CALSCALE:GREGORIAN
METHOD:PUBLISH
X-WR-CALNAME:Finn Carlsen Turistbusser
X-ORIGINAL-URL:https://fcturistbusser.no
X-WR-CALDESC:Events for Finn Carlsen Turistbusser
BEGIN:VTIMEZONE
TZID:UTC
BEGIN:STANDARD
TZOFFSETFROM:+0000
TZOFFSETTO:+0000
TZNAME:UTC
DTSTART:20270101T000000
END:STANDARD
END:VTIMEZONE
BEGIN:VEVENT
DTSTART;VALUE=DATE:20270519
DTEND;VALUE=DATE:20270520
DTSTAMP:20260419T193242
CREATED:20251015T103829Z
LAST-MODIFIED:20251015T110314Z
UID:7159-1810684800-1810771199@fcturistbusser.no
SUMMARY:FJÄLLBACKA MED LERINS SOMMERØY. Til lands og til
DESCRIPTION:Fjällbacka\, den sjarmerende kystperlen på den svenske vestkysten\, er et sted der havet møter historien. Smale brosteinsgater\, fargerike trehus og små\, koselige kafeer gir en lun atmosfære\, mens skjærgården utenfor inviterer til båttur. program \n
URL:https://fcturistbusser.no/event/fjallbacka-med-lerins-sommeroy-til-lands-og-til/
CATEGORIES:Dagstur,Tur til Sverige
ATTACH;FMTTYPE=image/jpeg:https://fcturistbusser.no/wp-content/uploads/2016/12/10_7_Fjallbacka205420-20Foto20Jurgen20Wickert-e1483011045655.jpg
ORGANIZER;CN="Finn%20Carlsen%20Turistbusser%20AS":MAILTO:post@fcturistbusser.no
END:VEVENT
END:VCALENDAR