BEGIN:VCALENDAR
VERSION:2.0
PRODID:-//Finn Carlsen Turistbusser - ECPv4.9.13//NONSGML v1.0//EN
CALSCALE:GREGORIAN
METHOD:PUBLISH
X-WR-CALNAME:Finn Carlsen Turistbusser
X-ORIGINAL-URL:https://fcturistbusser.no
X-WR-CALDESC:Events for Finn Carlsen Turistbusser
BEGIN:VTIMEZONE
TZID:UTC
BEGIN:STANDARD
TZOFFSETFROM:+0000
TZOFFSETTO:+0000
TZNAME:UTC
DTSTART:20190101T000000
END:STANDARD
END:VTIMEZONE
BEGIN:VEVENT
DTSTART;VALUE=DATE:20190507
DTEND;VALUE=DATE:20190508
DTSTAMP:20260425T112145
CREATED:20190110T085136Z
LAST-MODIFIED:20190131T065812Z
UID:3468-1557187200-1557273599@fcturistbusser.no
SUMMARY:Fjellklatring i Danmark «Det  danske høyfjellet»
DESCRIPTION:Turen til det danske høyfjellet vil gi deg et helt nytt syn på vårt naboland i syd. Sammen med forfatteren Roger Pihl\, som er verdensberømt i Danmark etter å ha fått utgitt flere bøker om danske høydepunkter\, har vi satt sammen en tur der du får oppleve Danmark\, først og fremst som naturland. Vi skal bestige flere av de høyeste toppene\, men også få oppleve historie\, kultur\, mat\, utsikt og jyske byer du kanskje aldri har hørt om. Turen passer for alle som liker å gå litt. Husk gode sko og vindtett jakke\, for det blåser på toppene\, også i Danmark. \nRoger Pihl er fagredaktør for Danmarks geografi i Store norske leksikon\, der han så langt har skrevet 697 artikler om landet. Dessuten har han som forfatter skrevet 66 bøker med stort og smått\, alt fra romaner til biografier og sakprosa. Programmet ligger her. \n
URL:https://fcturistbusser.no/event/fjellklatring-i-danmark-det-danske-hoyfjellet/
CATEGORIES:FC klubben,Tur
ATTACH;FMTTYPE=image/jpeg:https://fcturistbusser.no/wp-content/uploads/2019/01/Pikkerbakken-Frederikshavn-e1547109978996.jpg
ORGANIZER;CN="Finn%20Carlsen%20Turistbusser%20AS":MAILTO:post@fcturistbusser.no
END:VEVENT
END:VCALENDAR