BEGIN:VCALENDAR
VERSION:2.0
PRODID:-//Finn Carlsen Turistbusser - ECPv4.9.13//NONSGML v1.0//EN
CALSCALE:GREGORIAN
METHOD:PUBLISH
X-WR-CALNAME:Finn Carlsen Turistbusser
X-ORIGINAL-URL:https://fcturistbusser.no
X-WR-CALDESC:Events for Finn Carlsen Turistbusser
BEGIN:VTIMEZONE
TZID:UTC
BEGIN:STANDARD
TZOFFSETFROM:+0000
TZOFFSETTO:+0000
TZNAME:UTC
DTSTART:20230101T000000
END:STANDARD
END:VTIMEZONE
BEGIN:VEVENT
DTSTART;VALUE=DATE:20230524
DTEND;VALUE=DATE:20230525
DTSTAMP:20260424T030916
CREATED:20230120T112431Z
LAST-MODIFIED:20230120T112517Z
UID:5906-1684886400-1684972799@fcturistbusser.no
SUMMARY:Jubileumstur\, 10 år\, FC klubben
DESCRIPTION:«Eidsvoll 1814\, 6 uker som formet Norge» \nprogram \n
URL:https://fcturistbusser.no/event/jubileumstur-10-ar-fc-klubben/
CATEGORIES:FC klubben
ATTACH;FMTTYPE=image/jpeg:https://fcturistbusser.no/wp-content/uploads/2023/01/Eidsvollsbygningen.jpg
END:VEVENT
END:VCALENDAR