BEGIN:VCALENDAR
VERSION:2.0
PRODID:-//Finn Carlsen Turistbusser - ECPv4.9.13//NONSGML v1.0//EN
CALSCALE:GREGORIAN
METHOD:PUBLISH
X-WR-CALNAME:Finn Carlsen Turistbusser
X-ORIGINAL-URL:https://fcturistbusser.no
X-WR-CALDESC:Events for Finn Carlsen Turistbusser
BEGIN:VTIMEZONE
TZID:UTC
BEGIN:STANDARD
TZOFFSETFROM:+0000
TZOFFSETTO:+0000
TZNAME:UTC
DTSTART:20210101T000000
END:STANDARD
END:VTIMEZONE
BEGIN:VEVENT
DTSTART;VALUE=DATE:20210623
DTEND;VALUE=DATE:20210624
DTSTAMP:20260425T032754
CREATED:20210107T142030Z
LAST-MODIFIED:20210107T142030Z
UID:5359-1624406400-1624492799@fcturistbusser.no
SUMMARY:Kristiansand\, Larvik\, Lindesnes fyr og Risør
DESCRIPTION:Kjøpstaden Kristiansand ble grunnlagt av Christian IV i år 1641. Før den tid var det svært lite bebyggelse av “Sanden” ved Otras utløp. Men det foregikk en betydelig virksomhet i distriktet. Det var særlig avvirkningen av skogen og trelasteksporten som dannet næringsgrunnlaget. Her finner du programmet \n
URL:https://fcturistbusser.no/event/kristiansand-larvik-lindesnes-fyr-og-risor/
CATEGORIES:Tur
ATTACH;FMTTYPE=image/jpeg:https://fcturistbusser.no/wp-content/uploads/2016/03/Risør-1.jpg
ORGANIZER;CN="Finn%20Carlsen%20Turistbusser%20AS":MAILTO:post@fcturistbusser.no
END:VEVENT
END:VCALENDAR