BEGIN:VCALENDAR
VERSION:2.0
PRODID:-//Finn Carlsen Turistbusser - ECPv4.9.13//NONSGML v1.0//EN
CALSCALE:GREGORIAN
METHOD:PUBLISH
X-WR-CALNAME:Finn Carlsen Turistbusser
X-ORIGINAL-URL:https://fcturistbusser.no
X-WR-CALDESC:Events for Finn Carlsen Turistbusser
BEGIN:VTIMEZONE
TZID:UTC
BEGIN:STANDARD
TZOFFSETFROM:+0000
TZOFFSETTO:+0000
TZNAME:UTC
DTSTART:20240101T000000
END:STANDARD
END:VTIMEZONE
BEGIN:VEVENT
DTSTART;VALUE=DATE:20240918
DTEND;VALUE=DATE:20240919
DTSTAMP:20260422T213816
CREATED:20240203T124955Z
LAST-MODIFIED:20240203T124955Z
UID:6553-1726617600-1726703999@fcturistbusser.no
SUMMARY:La oss bli kjent i vakre OSLO\, byen vår!
DESCRIPTION:Eili tar oss med på en runde i Oslo.  Program: \n
URL:https://fcturistbusser.no/event/la-oss-bli-kjent-i-vakre-oslo-byen-var/
CATEGORIES:FC klubben
ORGANIZER;CN="Finn%20Carlsen%20Turistbusser%20AS":MAILTO:post@fcturistbusser.no
END:VEVENT
END:VCALENDAR