BEGIN:VCALENDAR
VERSION:2.0
PRODID:-//Finn Carlsen Turistbusser - ECPv4.9.13//NONSGML v1.0//EN
CALSCALE:GREGORIAN
METHOD:PUBLISH
X-WR-CALNAME:Finn Carlsen Turistbusser
X-ORIGINAL-URL:https://fcturistbusser.no
X-WR-CALDESC:Events for Finn Carlsen Turistbusser
BEGIN:VTIMEZONE
TZID:UTC
BEGIN:STANDARD
TZOFFSETFROM:+0000
TZOFFSETTO:+0000
TZNAME:UTC
DTSTART:20250101T000000
END:STANDARD
END:VTIMEZONE
BEGIN:VEVENT
DTSTART;VALUE=DATE:20250527
DTEND;VALUE=DATE:20250528
DTSTAMP:20260420T103732
CREATED:20250424T115349Z
LAST-MODIFIED:20250424T115349Z
UID:6974-1748304000-1748390399@fcturistbusser.no
SUMMARY:MAMMUTHUSET- HOVELSRUD GÅRD-WOOD HOTELL
DESCRIPTION:La oss ta dere med på en liten\, morsom reise til Mammuthuset på Hamar!\nForestill dere et sted hvor fortiden møter nåtiden med et glimt i øyet. Mammuthuset er ikke bare et museum; det er en tidsmaskin tilbake til istiden\, komplett med en ekte mammut (vel\, nesten ekte) og en vert som kan få stein til å snakke.\nBygningen selv er en arkitektonisk perle\, inspirert av både mammutjegerens fangsthytte og en gammel kirke som en gang sto i området. Inngangspartiet er formet som to mammuttenner\, og trappen er bygget av stein fra egen tomt – snakk om å ha beina godt plantet i historien! ​\nEr du litt nyfiken nå? Programmet ligger her. \n
URL:https://fcturistbusser.no/event/mammuthuset-hovelsrud-gard-wood-hotell/
CATEGORIES:Dagstur
ATTACH;FMTTYPE=image/jpeg:https://fcturistbusser.no/wp-content/uploads/2025/04/zooparque_itatiba_sp_4.jpg
ORGANIZER;CN="Finn%20Carlsen%20Turistbusser%20AS":MAILTO:post@fcturistbusser.no
END:VEVENT
END:VCALENDAR