BEGIN:VCALENDAR
VERSION:2.0
PRODID:-//Finn Carlsen Turistbusser - ECPv4.9.13//NONSGML v1.0//EN
CALSCALE:GREGORIAN
METHOD:PUBLISH
X-WR-CALNAME:Finn Carlsen Turistbusser
X-ORIGINAL-URL:https://fcturistbusser.no
X-WR-CALDESC:Events for Finn Carlsen Turistbusser
BEGIN:VTIMEZONE
TZID:UTC
BEGIN:STANDARD
TZOFFSETFROM:+0000
TZOFFSETTO:+0000
TZNAME:UTC
DTSTART:20250101T000000
END:STANDARD
END:VTIMEZONE
BEGIN:VEVENT
DTSTART;VALUE=DATE:20250417
DTEND;VALUE=DATE:20250418
DTSTAMP:20260422T141026
CREATED:20250117T184028Z
LAST-MODIFIED:20250117T184028Z
UID:6775-1744848000-1744934399@fcturistbusser.no
SUMMARY:Møt våren i Rostock\, påsketur
DESCRIPTION:Rostock\, beliggende ved Østersjø-kysten og i det som tidligere var Øst-Tyskland – er så avgjort en by verdt en reise. Den har en trivelig bykjerne\, slik vi kjenner fra mange tyske små– og mellomstore byer. Ideélt å rusle ut fra hotellet i\, kikke litt i butikker og på liv og folk\, slå seg ned på en fortausrestaurant eller nyte en god lunsj på en av byens restauranter. \nProgram  \n
URL:https://fcturistbusser.no/event/mot-varen-i-rostock-pasketur/
CATEGORIES:Påsketur,Tur
END:VEVENT
END:VCALENDAR