BEGIN:VCALENDAR
VERSION:2.0
PRODID:-//Finn Carlsen Turistbusser - ECPv4.9.13//NONSGML v1.0//EN
CALSCALE:GREGORIAN
METHOD:PUBLISH
X-WR-CALNAME:Finn Carlsen Turistbusser
X-ORIGINAL-URL:https://fcturistbusser.no
X-WR-CALDESC:Events for Finn Carlsen Turistbusser
BEGIN:VTIMEZONE
TZID:UTC
BEGIN:STANDARD
TZOFFSETFROM:+0000
TZOFFSETTO:+0000
TZNAME:UTC
DTSTART:20210101T000000
END:STANDARD
END:VTIMEZONE
BEGIN:VEVENT
DTSTART;VALUE=DATE:20211228
DTEND;VALUE=DATE:20211229
DTSTAMP:20260424T135607
CREATED:20180815T090614Z
LAST-MODIFIED:20210818T101010Z
UID:3307-1640649600-1640735999@fcturistbusser.no
SUMMARY:Nyttårsfeiring på Dalseter Høyfjellshotell
DESCRIPTION:Et familiedrevet hotell øverst i Espedalen på 930 m.o.h. med flott panoramautsikt mot Jotunheimen. Dalseter har en lun og avslappet atmosfære som passer for alle aldre. Barnevennlig og komfortabelt hotell med god standard. Alle rom har dusj\, wc\, telefon og kabel-tv. Store fellesareal\, peisestue og salonger. Meget godt kjøkken!  Innendørs svømmebasseng. Skiløypenettet starter rett utenfor hotellet og Dalseter er et flott utgangspunkt for skiturer i skog og fjell. Dalseter feirer en tradisjonell jul med mye kos og hygge – og ikke minst sine hjemmebakte julekaker til kaffen hver kveld.  Kanskje kommer nissen også? Programmet finner du her. \nMed hensyn til komfort og pris er Dalseter en av våre favoritter \n
URL:https://fcturistbusser.no/event/nyttarsfeiring-pa-dalseter-hoyfjellshotell/
LOCATION:Sted uten navn\, Oppland\, Norge
CATEGORIES:JUL-NYTTÅRS OPPHOLD,Tur
ATTACH;FMTTYPE=image/jpeg:https://fcturistbusser.no/wp-content/uploads/2016/09/litenkjelkebakkevedhotellet.jpg
END:VEVENT
END:VCALENDAR