BEGIN:VCALENDAR
VERSION:2.0
PRODID:-//Finn Carlsen Turistbusser - ECPv4.9.13//NONSGML v1.0//EN
CALSCALE:GREGORIAN
METHOD:PUBLISH
X-WR-CALNAME:Finn Carlsen Turistbusser
X-ORIGINAL-URL:https://fcturistbusser.no
X-WR-CALDESC:Events for Finn Carlsen Turistbusser
BEGIN:VTIMEZONE
TZID:UTC
BEGIN:STANDARD
TZOFFSETFROM:+0000
TZOFFSETTO:+0000
TZNAME:UTC
DTSTART:20250101T000000
END:STANDARD
END:VTIMEZONE
BEGIN:VEVENT
DTSTART;VALUE=DATE:20250417
DTEND;VALUE=DATE:20250418
DTSTAMP:20260422T140602
CREATED:20240110T122958Z
LAST-MODIFIED:20251126T220030Z
UID:6204-1744848000-1744934399@fcturistbusser.no
SUMMARY:Påsketur til Straand Hotell
DESCRIPTION:DET ER PÅ STRAAND DET SKJER…\nPåskenøtter\, deilig påskemat\, historie & underholdning med flott musikk \nProgram \n
URL:https://fcturistbusser.no/event/pasketur-til-straand-hotell/
ORGANIZER;CN="Finn%20Carlsen%20Turistbusser%20AS":MAILTO:post@fcturistbusser.no
END:VEVENT
END:VCALENDAR