BEGIN:VCALENDAR
VERSION:2.0
PRODID:-//Finn Carlsen Turistbusser - ECPv4.9.13//NONSGML v1.0//EN
CALSCALE:GREGORIAN
METHOD:PUBLISH
X-WR-CALNAME:Finn Carlsen Turistbusser
X-ORIGINAL-URL:https://fcturistbusser.no
X-WR-CALDESC:Events for Finn Carlsen Turistbusser
BEGIN:VTIMEZONE
TZID:UTC
BEGIN:STANDARD
TZOFFSETFROM:+0000
TZOFFSETTO:+0000
TZNAME:UTC
DTSTART:20230101T000000
END:STANDARD
END:VTIMEZONE
BEGIN:VEVENT
DTSTART;VALUE=DATE:20230717
DTEND;VALUE=DATE:20230718
DTSTAMP:20260423T230245
CREATED:20171013T131808Z
LAST-MODIFIED:20230130T112736Z
UID:3073-1689552000-1689638399@fcturistbusser.no
SUMMARY:Rosendal-Haugesund-Karmøy
DESCRIPTION:Starten på vår Norgeshistorie. Vestlandsk skjærgård og kommunikasjon. Baroni og prisbelønnet ”smaubebyggelse”. Gruvesamfunn og kristtorn-skog. Flere av Norges høyeste fjellvidder og vakreste daler. \nProgrammet ligger her. \n
URL:https://fcturistbusser.no/event/rosendal-haugesund-karmoy/
CATEGORIES:Tur
ATTACH;FMTTYPE=image/jpeg:https://fcturistbusser.no/wp-content/uploads/2015/06/Haugesund.jpg
ORGANIZER;CN="Finn%20Carlsen%20Turistbusser%20AS":MAILTO:post@fcturistbusser.no
END:VEVENT
END:VCALENDAR