BEGIN:VCALENDAR
VERSION:2.0
PRODID:-//Finn Carlsen Turistbusser - ECPv4.9.13//NONSGML v1.0//EN
CALSCALE:GREGORIAN
METHOD:PUBLISH
X-WR-CALNAME:Finn Carlsen Turistbusser
X-ORIGINAL-URL:https://fcturistbusser.no
X-WR-CALDESC:Events for Finn Carlsen Turistbusser
BEGIN:VTIMEZONE
TZID:UTC
BEGIN:STANDARD
TZOFFSETFROM:+0000
TZOFFSETTO:+0000
TZNAME:UTC
DTSTART:20250101T000000
END:STANDARD
END:VTIMEZONE
BEGIN:VEVENT
DTSTART;VALUE=DATE:20250715
DTEND;VALUE=DATE:20250716
DTSTAMP:20260420T085701
CREATED:20160203T125616Z
LAST-MODIFIED:20250523T185818Z
UID:663-1752537600-1752623999@fcturistbusser.no
SUMMARY:“Så seiler vi på Mjøsa”
DESCRIPTION:Ordrett sitert Alf Prøysen. Båttur med verdens eldste innlands passasjerdampskip er en opplevelse.\nVil du lese mer så finner du programmet her\n
URL:https://fcturistbusser.no/event/sa-seiler-vi-pa-mjosa-3/
LOCATION:Sted uten navn\, Innlandet\, Norge
CATEGORIES:Dagstur
ATTACH;FMTTYPE=image/jpeg:https://fcturistbusser.no/wp-content/uploads/2016/02/Skibladner.jpg
ORGANIZER;CN="Finn%20Carlsen%20Turistbusser%20AS":MAILTO:post@fcturistbusser.no
END:VEVENT
END:VCALENDAR