BEGIN:VCALENDAR
VERSION:2.0
PRODID:-//Finn Carlsen Turistbusser - ECPv4.9.13//NONSGML v1.0//EN
CALSCALE:GREGORIAN
METHOD:PUBLISH
X-WR-CALNAME:Finn Carlsen Turistbusser
X-ORIGINAL-URL:https://fcturistbusser.no
X-WR-CALDESC:Events for Finn Carlsen Turistbusser
BEGIN:VTIMEZONE
TZID:UTC
BEGIN:STANDARD
TZOFFSETFROM:+0000
TZOFFSETTO:+0000
TZNAME:UTC
DTSTART:20220101T000000
END:STANDARD
END:VTIMEZONE
BEGIN:VEVENT
DTSTART;VALUE=DATE:20220524
DTEND;VALUE=DATE:20220525
DTSTAMP:20260424T103636
CREATED:20220204T115151Z
LAST-MODIFIED:20220204T115151Z
UID:5654-1653350400-1653436799@fcturistbusser.no
SUMMARY:Smak av Eikern m/FC klubben
DESCRIPTION:MS Eikern er kjent for god mat\, god service\, fine opplevelser i historisk farvann og en svært hyggelig atmosfære om bord. En båttur med MS Eikern i et av Norges vakreste landskap er en opplevelse i seg selv.  Fossesholm herregård har historie tilbake til 1541 og var i sin storhetstid på over 200.000 mål. Sagbruksdrift og trelasthandel la grunnlaget for godset. Fossesholm er fortsatt en av Norges flotteste herregårder med et godt bevart interiør fra midten av 1700-tallet. program \n
URL:https://fcturistbusser.no/event/smak-av-eikern-m-fc-klubben/
CATEGORIES:Dagstur,FC klubben
ATTACH;FMTTYPE=image/jpeg:https://fcturistbusser.no/wp-content/uploads/2022/02/1200px-Fossesholm.jpg
ORGANIZER;CN="Finn%20Carlsen%20Turistbusser%20AS":MAILTO:post@fcturistbusser.no
END:VEVENT
END:VCALENDAR