BEGIN:VCALENDAR
VERSION:2.0
PRODID:-//Finn Carlsen Turistbusser - ECPv4.9.13//NONSGML v1.0//EN
CALSCALE:GREGORIAN
METHOD:PUBLISH
X-WR-CALNAME:Finn Carlsen Turistbusser
X-ORIGINAL-URL:https://fcturistbusser.no
X-WR-CALDESC:Events for Finn Carlsen Turistbusser
BEGIN:VTIMEZONE
TZID:UTC
BEGIN:STANDARD
TZOFFSETFROM:+0000
TZOFFSETTO:+0000
TZNAME:UTC
DTSTART:20200101T000000
END:STANDARD
END:VTIMEZONE
BEGIN:VEVENT
DTSTART;VALUE=DATE:20200814
DTEND;VALUE=DATE:20200815
DTSTAMP:20260425T032336
CREATED:20160317T194121Z
LAST-MODIFIED:20191202T132338Z
UID:1151-1597363200-1597449599@fcturistbusser.no
SUMMARY:Sommerbyen Åmål
DESCRIPTION:Åmål\, hovedstaden i Dalsland. En meget vakker by med nydelig beliggenhet ved Vänern. Byen utmerker seg med gammel fredet bebyggelse fra midten av det 18.-århundre. Den ligger i et flott område rundt byparken. Fint å ta en promenadetur langs havnen………………………….. \nProgrammet ligger her. \n
URL:https://fcturistbusser.no/event/sommerbyen-amal-3/
CATEGORIES:Dagstur,Tur til Sverige
ATTACH;FMTTYPE=image/jpeg:https://fcturistbusser.no/wp-content/uploads/2016/01/åmål-3.jpg
ORGANIZER;CN="Finn%20Carlsen%20Turistbusser%20AS":MAILTO:post@fcturistbusser.no
END:VEVENT
END:VCALENDAR