BEGIN:VCALENDAR
VERSION:2.0
PRODID:-//Finn Carlsen Turistbusser - ECPv4.9.13//NONSGML v1.0//EN
CALSCALE:GREGORIAN
METHOD:PUBLISH
X-WR-CALNAME:Finn Carlsen Turistbusser
X-ORIGINAL-URL:https://fcturistbusser.no
X-WR-CALDESC:Events for Finn Carlsen Turistbusser
BEGIN:VTIMEZONE
TZID:UTC
BEGIN:STANDARD
TZOFFSETFROM:+0000
TZOFFSETTO:+0000
TZNAME:UTC
DTSTART:20270101T000000
END:STANDARD
END:VTIMEZONE
BEGIN:VEVENT
DTSTART;VALUE=DATE:20270610
DTEND;VALUE=DATE:20270611
DTSTAMP:20260419T210109
CREATED:20251015T093109Z
LAST-MODIFIED:20251015T093109Z
UID:7146-1812585600-1812671999@fcturistbusser.no
SUMMARY:Stavern – lysets by ved havet
DESCRIPTION:Stavern\, den lille kyst perlen i Vestfold\, har i århundrer tiltrukket seg kunstnere\, sjøfolk og sommergjester. Med sitt klare lys\, sine svaberg og sitt historiske preg er byen et levende galleri mellom hav og himmel. Her møtes……… Programmet ligger her. \n
URL:https://fcturistbusser.no/event/stavern-lysets-by-ved-havet/
CATEGORIES:Dagstur
ATTACH;FMTTYPE=image/jpeg:https://fcturistbusser.no/wp-content/uploads/2016/01/535367273_2986962874818333_3281320301052396934_n.jpg
ORGANIZER;CN="Finn%20Carlsen%20Turistbusser%20AS":MAILTO:post@fcturistbusser.no
END:VEVENT
END:VCALENDAR