BEGIN:VCALENDAR
VERSION:2.0
PRODID:-//Finn Carlsen Turistbusser - ECPv4.9.13//NONSGML v1.0//EN
CALSCALE:GREGORIAN
METHOD:PUBLISH
X-WR-CALNAME:Finn Carlsen Turistbusser
X-ORIGINAL-URL:https://fcturistbusser.no
X-WR-CALDESC:Events for Finn Carlsen Turistbusser
BEGIN:VTIMEZONE
TZID:UTC
BEGIN:STANDARD
TZOFFSETFROM:+0000
TZOFFSETTO:+0000
TZNAME:UTC
DTSTART:20230101T000000
END:STANDARD
END:VTIMEZONE
BEGIN:VEVENT
DTSTART;VALUE=DATE:20230921
DTEND;VALUE=DATE:20230922
DTSTAMP:20260423T124352
CREATED:20230120T141945Z
LAST-MODIFIED:20230120T141945Z
UID:5929-1695254400-1695340799@fcturistbusser.no
SUMMARY:Til "seters" med FC klubben
DESCRIPTION:Stølslivet i Norge er sterkt redusert\, (men i Valdres har vi mer enn 230 aktive støler)\, og på mange steder helt borte. Når vi besøker de gamle setergrender blir vi ofte skuffet. Titt litt her: \n
URL:https://fcturistbusser.no/event/til-seters-med-fc-klubben/
CATEGORIES:FC klubben
ATTACH;FMTTYPE=image/bmp:https://fcturistbusser.no/wp-content/uploads/2016/02/Vasetstølen.bmp
ORGANIZER;CN="Finn%20Carlsen%20Turistbusser%20AS":MAILTO:post@fcturistbusser.no
END:VEVENT
END:VCALENDAR