BEGIN:VCALENDAR
VERSION:2.0
PRODID:-//Finn Carlsen Turistbusser - ECPv4.9.13//NONSGML v1.0//EN
CALSCALE:GREGORIAN
METHOD:PUBLISH
X-WR-CALNAME:Finn Carlsen Turistbusser
X-ORIGINAL-URL:https://fcturistbusser.no
X-WR-CALDESC:Events for Finn Carlsen Turistbusser
BEGIN:VTIMEZONE
TZID:UTC
BEGIN:STANDARD
TZOFFSETFROM:+0000
TZOFFSETTO:+0000
TZNAME:UTC
DTSTART:20230101T000000
END:STANDARD
END:VTIMEZONE
BEGIN:VEVENT
DTSTART;VALUE=DATE:20230810
DTEND;VALUE=DATE:20230811
DTSTAMP:20260423T184136
CREATED:20220816T114750Z
LAST-MODIFIED:20220816T115546Z
UID:5766-1691625600-1691711999@fcturistbusser.no
SUMMARY:«Toner fra en sjøbod»
DESCRIPTION:\n        Furholmen Restaurant\n\nHavet stimulerer våre sanser\, vi får fantastiske vyer\, lukten av tang og hav\, vinden som stryker oss over kinnet\, vekk alle sansene til live. I dag skal vi kose oss. Furholmen har en lang historie. Den man hører mest om………  Program \n
URL:https://fcturistbusser.no/event/toner-fra-en-sjobod-2/
CATEGORIES:Dagstur,Tur til Sverige
ATTACH;FMTTYPE=image/png:https://fcturistbusser.no/wp-content/uploads/2022/08/Furholmen.png
END:VEVENT
END:VCALENDAR