BEGIN:VCALENDAR
VERSION:2.0
PRODID:-//Finn Carlsen Turistbusser - ECPv4.9.13//NONSGML v1.0//EN
CALSCALE:GREGORIAN
METHOD:PUBLISH
X-WR-CALNAME:Finn Carlsen Turistbusser
X-ORIGINAL-URL:https://fcturistbusser.no
X-WR-CALDESC:Events for Finn Carlsen Turistbusser
BEGIN:VTIMEZONE
TZID:UTC
BEGIN:STANDARD
TZOFFSETFROM:+0000
TZOFFSETTO:+0000
TZNAME:UTC
DTSTART:20230101T000000
END:STANDARD
END:VTIMEZONE
BEGIN:VEVENT
DTSTART;VALUE=DATE:20230622
DTEND;VALUE=DATE:20230623
DTSTAMP:20260424T003657
CREATED:20220816T114609Z
LAST-MODIFIED:20220816T114637Z
UID:5763-1687392000-1687478399@fcturistbusser.no
SUMMARY:«Toner fra en sjøbod»
DESCRIPTION:Havet stimulerer våre sanser\, vi får fantastiske vyer\, lukten av tang og hav\, vinden som stryker oss over kinnet\, vekk alle sansene til live. I dag skal vi kose oss. Furholmen har en lang historie. Den man hører mest om………  Program \n
URL:https://fcturistbusser.no/event/toner-fra-en-sjobod/
CATEGORIES:Dagstur,Tur til Sverige
ATTACH;FMTTYPE=image/png:https://fcturistbusser.no/wp-content/uploads/2022/08/Furholmen.png
ORGANIZER;CN="Finn%20Carlsen%20Turistbusser%20AS":MAILTO:post@fcturistbusser.no
END:VEVENT
END:VCALENDAR