BEGIN:VCALENDAR
VERSION:2.0
PRODID:-//Finn Carlsen Turistbusser - ECPv4.9.13//NONSGML v1.0//EN
CALSCALE:GREGORIAN
METHOD:PUBLISH
X-WR-CALNAME:Finn Carlsen Turistbusser
X-ORIGINAL-URL:https://fcturistbusser.no
X-WR-CALDESC:Events for Finn Carlsen Turistbusser
BEGIN:VTIMEZONE
TZID:UTC
BEGIN:STANDARD
TZOFFSETFROM:+0000
TZOFFSETTO:+0000
TZNAME:UTC
DTSTART:20250101T000000
END:STANDARD
END:VTIMEZONE
BEGIN:VEVENT
DTSTART;VALUE=DATE:20250701
DTEND;VALUE=DATE:20250702
DTSTAMP:20260420T090607
CREATED:20181230T183344Z
LAST-MODIFIED:20250118T125124Z
UID:3424-1751328000-1751414399@fcturistbusser.no
SUMMARY:Ut i det blå 2025
DESCRIPTION:Denne turen er litt spesiell\, her blir alt en overraskelse. Vi starter med at dere skal gjette hvor vi skal\, den som kommer nærmest blir premiert. Program.. \n
URL:https://fcturistbusser.no/event/ut-i-det-bla-m-fc-klubben/
CATEGORIES:Dagstur,FC klubben
ATTACH;FMTTYPE=image/jpeg:https://fcturistbusser.no/wp-content/uploads/2016/02/Irene-mobil-058-e1454507763708.jpg
ORGANIZER;CN="Finn%20Carlsen%20Turistbusser%20AS":MAILTO:post@fcturistbusser.no
END:VEVENT
END:VCALENDAR