BEGIN:VCALENDAR
VERSION:2.0
PRODID:-//Finn Carlsen Turistbusser - ECPv4.9.13//NONSGML v1.0//EN
CALSCALE:GREGORIAN
METHOD:PUBLISH
X-WR-CALNAME:Finn Carlsen Turistbusser
X-ORIGINAL-URL:https://fcturistbusser.no
X-WR-CALDESC:Events for Finn Carlsen Turistbusser
BEGIN:VTIMEZONE
TZID:UTC
BEGIN:STANDARD
TZOFFSETFROM:+0000
TZOFFSETTO:+0000
TZNAME:UTC
DTSTART:20210101T000000
END:STANDARD
END:VTIMEZONE
BEGIN:VEVENT
DTSTART;VALUE=DATE:20210809
DTEND;VALUE=DATE:20210810
DTSTAMP:20260424T222329
CREATED:20201228T152018Z
LAST-MODIFIED:20201228T152018Z
UID:5342-1628467200-1628553599@fcturistbusser.no
SUMMARY:Vakre fjorder\, fjell og daler
DESCRIPTION:En reise i rolig tempo med to netter i Molde\, en natt i Ålesund og i Geiranger. Vi får bl.a. oppleve:  Molde og Ålesund\, Atlanterhavsveien\, båttur på Hjørundfjorden og på Geirangerfjorden – og mye\, mye mer! \nProgrammet finnet du her. \n
URL:https://fcturistbusser.no/event/vakre-fjorder-fjell-og-daler/
CATEGORIES:Tur
ATTACH;FMTTYPE=image/jpeg:https://fcturistbusser.no/wp-content/uploads/2020/12/Bergtatt-37-e1609168576954.jpg
ORGANIZER;CN="Finn%20Carlsen%20Turistbusser%20AS":MAILTO:post@fcturistbusser.no
END:VEVENT
END:VCALENDAR