BEGIN:VCALENDAR
VERSION:2.0
PRODID:-//Finn Carlsen Turistbusser - ECPv4.9.13//NONSGML v1.0//EN
CALSCALE:GREGORIAN
METHOD:PUBLISH
X-WR-CALNAME:Finn Carlsen Turistbusser
X-ORIGINAL-URL:https://fcturistbusser.no
X-WR-CALDESC:Events for Finn Carlsen Turistbusser
BEGIN:VTIMEZONE
TZID:UTC
BEGIN:STANDARD
TZOFFSETFROM:+0000
TZOFFSETTO:+0000
TZNAME:UTC
DTSTART:20210101T000000
END:STANDARD
END:VTIMEZONE
BEGIN:VEVENT
DTSTART;VALUE=DATE:20210519
DTEND;VALUE=DATE:20210520
DTSTAMP:20260424T222027
CREATED:20200114T130028Z
LAST-MODIFIED:20210519T122200Z
UID:3658-1621382400-1621468799@fcturistbusser.no
SUMMARY:Vakre Maihaugen
DESCRIPTION:Det skjer alltid noe på friluftsmuseet Maihaugen på Lillehammer. I idylliske omgivelser venter gode opplevelser. Programmet finner du her \n
URL:https://fcturistbusser.no/event/vakre-maihaugen/
LOCATION:Sted uten navn\, Innlandet\, Norge
CATEGORIES:Dagstur
ATTACH;FMTTYPE=image/jpeg:https://fcturistbusser.no/wp-content/uploads/2017/01/Gamle_storferaser_på_Maihaugen-e1483970771128.jpg
ORGANIZER;CN="Finn%20Carlsen%20Turistbusser%20AS":MAILTO:post@fcturistbusser.no
END:VEVENT
END:VCALENDAR