BEGIN:VCALENDAR
VERSION:2.0
PRODID:-//Finn Carlsen Turistbusser - ECPv4.9.13//NONSGML v1.0//EN
CALSCALE:GREGORIAN
METHOD:PUBLISH
X-WR-CALNAME:Finn Carlsen Turistbusser
X-ORIGINAL-URL:https://fcturistbusser.no
X-WR-CALDESC:Events for Finn Carlsen Turistbusser
BEGIN:VTIMEZONE
TZID:UTC
BEGIN:STANDARD
TZOFFSETFROM:+0000
TZOFFSETTO:+0000
TZNAME:UTC
DTSTART:20230101T000000
END:STANDARD
END:VTIMEZONE
BEGIN:VEVENT
DTSTART;VALUE=DATE:20230908
DTEND;VALUE=DATE:20230909
DTSTAMP:20260423T153702
CREATED:20170820T105428Z
LAST-MODIFIED:20250802T122159Z
UID:3036-1694131200-1694217599@fcturistbusser.no
SUMMARY:Valdresfjellene på sitt beste
DESCRIPTION:Valdres… Dalenes perle\, det beste utgangspunkt for naturopplevelser \nProgrammet finner du her. \n
URL:https://fcturistbusser.no/event/valdresfjellene-pa-sitt-beste/
CATEGORIES:FC klubben,Fjelltur
ATTACH;FMTTYPE=image/jpeg:https://fcturistbusser.no/wp-content/uploads/2016/02/Gomobu-2-e1456489447716.jpg
ORGANIZER;CN="Finn%20Carlsen%20Turistbusser%20AS":MAILTO:post@fcturistbusser.no
END:VEVENT
END:VCALENDAR