BEGIN:VCALENDAR
VERSION:2.0
PRODID:-//Finn Carlsen Turistbusser - ECPv4.9.13//NONSGML v1.0//EN
CALSCALE:GREGORIAN
METHOD:PUBLISH
X-WR-CALNAME:Finn Carlsen Turistbusser
X-ORIGINAL-URL:https://fcturistbusser.no
X-WR-CALDESC:Events for Finn Carlsen Turistbusser
BEGIN:VTIMEZONE
TZID:UTC
BEGIN:STANDARD
TZOFFSETFROM:+0000
TZOFFSETTO:+0000
TZNAME:UTC
DTSTART:20210101T000000
END:STANDARD
END:VTIMEZONE
BEGIN:VEVENT
DTSTART;VALUE=DATE:20210505
DTEND;VALUE=DATE:20210506
DTSTAMP:20260425T001212
CREATED:20201020T115230Z
LAST-MODIFIED:20210120T110852Z
UID:4843-1620172800-1620259199@fcturistbusser.no
SUMMARY:Velkommen til opplevelser m/FC klubben
DESCRIPTION:Spennende tur for FC klubben sine medlemmer. Programmet ligger her \n
URL:https://fcturistbusser.no/event/velkommen-til-forjulsopplevelser-m-fc-klubben/
CATEGORIES:FC klubben
ATTACH;FMTTYPE=image/jpeg:https://fcturistbusser.no/wp-content/uploads/2016/01/Prøysenstua-e1453888779237.jpg
ORGANIZER;CN="Finn%20Carlsen%20Turistbusser%20AS":MAILTO:post@fcturistbusser.no
END:VEVENT
END:VCALENDAR