BEGIN:VCALENDAR
VERSION:2.0
PRODID:-//Finn Carlsen Turistbusser - ECPv4.9.13//NONSGML v1.0//EN
CALSCALE:GREGORIAN
METHOD:PUBLISH
X-WR-CALNAME:Finn Carlsen Turistbusser
X-ORIGINAL-URL:https://fcturistbusser.no
X-WR-CALDESC:Events for Finn Carlsen Turistbusser
BEGIN:VTIMEZONE
TZID:UTC
BEGIN:STANDARD
TZOFFSETFROM:+0000
TZOFFSETTO:+0000
TZNAME:UTC
DTSTART:20260101T000000
END:STANDARD
END:VTIMEZONE
BEGIN:VEVENT
DTSTART;VALUE=DATE:20260909
DTEND;VALUE=DATE:20260910
DTSTAMP:20260419T133015
CREATED:20240122T141706Z
LAST-MODIFIED:20251017T095200Z
UID:6391-1788912000-1788998399@fcturistbusser.no
SUMMARY:Vi opplever historien rundt Vemork og Rjukan
DESCRIPTION:Industristedet: Rjukan.:\nDe temmet en foss for å gi verden mat. Reiste enorme industrianlegg for å produsere elektrisk kraft og kunstgjødsel til verdensmarkedet. De bygget Rjukan på rekordfart. At Norsk Hydro påvirket samfunnet er det ingen tvil om\, hvordan det også forandret verden er vel så imponerende. \nLes mer her! \n
URL:https://fcturistbusser.no/event/vi-opplever-historien-rundt-vemork-og-rjukan/
CATEGORIES:Dagstur
ATTACH;FMTTYPE=image/jpeg:https://fcturistbusser.no/wp-content/uploads/2023/01/Rjukanfossen.jpg
ORGANIZER;CN="Finn%20Carlsen%20Turistbusser%20AS":MAILTO:post@fcturistbusser.no
END:VEVENT
END:VCALENDAR